BEGIN:VCALENDAR
VERSION:2.0
X-WR-CALNAME:EventsCalendar
BEGIN:VEVENT
CATEGORIES:<br />
<b>Deprecated</b>:  implode(): Passing glue string after array is deprecated. Swap the parameters in <b>/tmp/php-events-calendar/views/5259795ebfa33071995ecedd29a8e18ff40b7f63.php</b> on line <b>58</b><br />
Category,Academic,Location,Main Campus
DESCRIPTION:2026 Symposium-Celebrating Student Successes in Scholarship and Leadership Everyone-students, employees, &amp;amp; public- is invited to attend the week&amp;rsquo;s events showcasing the students of the Honors Program, Center for Undergraduate Research, Innovation, &amp;amp; Creativity (CURIC), and Center for Civic Engagement (CCE). Faculty: Please encourage your classes to attend, consider offering extra credit, or reach out if you want to be directly involved in the event. When: Monday, April 27th through Thursday, April 30th Where: Building B, Jobe Lounge Times: Events will take place between 9 am and 5 pm daily A full schedule of events can be found here.&amp;nbsp;
DTSTAMP:20260423T171656
DTSTART:20260427T090000
DTEND:20260427T170000
LOCATION:Main Campus
SUMMARY;LANGUAGE=en-us:2026 Symposium-Celebrating Student Successes in Scholarship and Leadership
UID:de4d838d9fa5efd053073e0662f699b2@www.elgin.edu
END:VEVENT
END:VCALENDAR

