BEGIN:VCALENDAR
VERSION:2.0
X-WR-CALNAME:EventsCalendar
BEGIN:VEVENT
CATEGORIES:<br />
<b>Deprecated</b>:  implode(): Passing glue string after array is deprecated. Swap the parameters in <b>/tmp/php-events-calendar/views/5259795ebfa33071995ecedd29a8e18ff40b7f63.php</b> on line <b>58</b><br />
Category,Information Sessions,Location,Virtual
DESCRIPTION:Attend an upcoming virtual information session to explore dual credit options within your school district. Learn more about:&amp;#xa0;  How dual credit works.&amp;#xa0; Which program options might be right for you.&amp;#xa0; How to prepare now.&amp;#xa0; Short-term and long-term benefits from dual credit participation.&amp;#xa0;&amp;#xa0;  The event is open to students and families considering whether dual credit is right for them.&amp;#xa0;
DTSTAMP:20260422T074959
DTSTART:20260422T180000
DTEND:20260422T190000
LOCATION:Virtual
SUMMARY;LANGUAGE=en-us:Dual Credit Information Night
UID:55d024348a48345573431a2b7d074fb3@www.elgin.edu
END:VEVENT
END:VCALENDAR

