BEGIN:VCALENDAR
VERSION:2.0
X-WR-CALNAME:EventsCalendar
BEGIN:VEVENT
CATEGORIES:<br />
<b>Deprecated</b>:  implode(): Passing glue string after array is deprecated. Swap the parameters in <b>/tmp/php-events-calendar/views/5259795ebfa33071995ecedd29a8e18ff40b7f63.php</b> on line <b>58</b><br />
Category,Information Sessions,Location,Main Campus
DESCRIPTION:This workshop will help job seekers create a professional, tailored resume that highlights their skills, experience, and achievements. Whether you are entering the job market or seeking to update your current resume, this workshop will equip you with the tools and strategies to make your resume stand out to employers. Please bring the following to the workshop:  Active email address Education/Employment history with dates Resume draft you are working on (optional) 
DTSTAMP:20260423T153127
DTSTART:20260212T100000
DTEND:20260212T120000
LOCATION:Main Campus
SUMMARY;LANGUAGE=en-us:Resume Workshop
UID:2e830dec9e9029617d2c9becbaee9fc5@www.elgin.edu
END:VEVENT
END:VCALENDAR

