BEGIN:VCALENDAR
VERSION:2.0
X-WR-CALNAME:EventsCalendar
BEGIN:VEVENT
CATEGORIES:<br />
<b>Deprecated</b>:  implode(): Passing glue string after array is deprecated. Swap the parameters in <b>/tmp/php-events-calendar/views/5259795ebfa33071995ecedd29a8e18ff40b7f63.php</b> on line <b>58</b><br />
Category,Professional Development,Location,Virtual
DESCRIPTION:Resume &amp;amp; Cover Letter Workshop: Crafting Your Professional Story Join the College &amp;amp; Career Readiness (CCR) team for an interactive evening webinar designed to help you confidently present your skills, experiences, and goals on paper. This session will walk participants through the essentials of building a strong resume and writing a compelling cover letter that tell a clear, professional story. You&amp;rsquo;ll gain practical tips, learn what employers look for, and leave with actionable strategies to tailor your materials for jobs, internships, or academic opportunities. Perfect for students at any stage who want to make a strong first impression and stand out. Hosted by College and Career Readiness
DTSTAMP:20260421T135827
DTSTART:20260421T180000
DTEND:20260421T191500
LOCATION:Virtual
SUMMARY;LANGUAGE=en-us:Resume &amp; Cover Letter Workshop: Crafting Your Professional Story
UID:2fe9400d881d6009bc23f7198c925874@www.elgin.edu
END:VEVENT
END:VCALENDAR

