BEGIN:VCALENDAR
VERSION:2.0
X-WR-CALNAME:EventsCalendar
BEGIN:VEVENT
CATEGORIES:<br />
<b>Deprecated</b>:  implode(): Passing glue string after array is deprecated. Swap the parameters in <b>/tmp/php-events-calendar/views/5259795ebfa33071995ecedd29a8e18ff40b7f63.php</b> on line <b>58</b><br />
Category,Registration, Payment, and Records
DESCRIPTION:If you applied to graduate in Fall 2025 and indicated that you plan to participate in the December ceremony, please pick up your cap and gown in the Jobe Lounge on December 1 or December 2 between 8 am and 7 pm. If you are unable to come during those times, you may send a family member or friend to pick it up on your behalf. &amp;nbsp; &amp;nbsp;
DTSTAMP:20260420T082140
DTSTART:20251201T080000
DTEND:20251202T190000
LOCATION:
SUMMARY;LANGUAGE=en-us:Cap &amp; Gown Pickup
UID:3b1a88f2a795e4d5be7315078cecc852@www.elgin.edu
END:VEVENT
END:VCALENDAR

